BEGIN:VCALENDAR
VERSION:2.0
PRODID:-//Energy Friendly Homes - ECPv6.15.20//NONSGML v1.0//EN
CALSCALE:GREGORIAN
METHOD:PUBLISH
X-ORIGINAL-URL:https://energyfriendlyhomes.com
X-WR-CALDESC:Events for Energy Friendly Homes
REFRESH-INTERVAL;VALUE=DURATION:PT1H
X-Robots-Tag:noindex
X-PUBLISHED-TTL:PT1H
BEGIN:VTIMEZONE
TZID:America/Los_Angeles
BEGIN:DAYLIGHT
TZOFFSETFROM:-0800
TZOFFSETTO:-0700
TZNAME:PDT
DTSTART:20250309T100000
END:DAYLIGHT
BEGIN:STANDARD
TZOFFSETFROM:-0700
TZOFFSETTO:-0800
TZNAME:PST
DTSTART:20251102T090000
END:STANDARD
BEGIN:DAYLIGHT
TZOFFSETFROM:-0800
TZOFFSETTO:-0700
TZNAME:PDT
DTSTART:20260308T100000
END:DAYLIGHT
BEGIN:STANDARD
TZOFFSETFROM:-0700
TZOFFSETTO:-0800
TZNAME:PST
DTSTART:20261101T090000
END:STANDARD
BEGIN:DAYLIGHT
TZOFFSETFROM:-0800
TZOFFSETTO:-0700
TZNAME:PDT
DTSTART:20270314T100000
END:DAYLIGHT
BEGIN:STANDARD
TZOFFSETFROM:-0700
TZOFFSETTO:-0800
TZNAME:PST
DTSTART:20271107T090000
END:STANDARD
END:VTIMEZONE
BEGIN:VEVENT
DTSTART;TZID=America/Los_Angeles:20260421T083000
DTEND;TZID=America/Los_Angeles:20260421T100000
DTSTAMP:20260421T094107
CREATED:20260420T012238Z
LAST-MODIFIED:20260420T012238Z
UID:10000147-1776760200-1776765600@energyfriendlyhomes.com
SUMMARY:BetterBuilt NW HVAC Sizing Tool
DESCRIPTION:Join Energy Trust for this free and frequently requested virtual training. This presentation is designed to showcase the BetterBuilt NW HVAC Sizing Tool\, and how to use the tool for HVAC design. Both Trade Allies and Community Partners may benefit from this information if they are looking to explore different sizing tools and learn more about HVAC load calculations. \nCLICK to REGISTER.
URL:https://energyfriendlyhomes.com/calendar-event/betterbuilt-nw-hvac-sizing-tool/
CATEGORIES:Online
END:VEVENT
END:VCALENDAR