BEGIN:VCALENDAR
VERSION:2.0
PRODID:-//Energy Friendly Homes - ECPv6.15.20//NONSGML v1.0//EN
CALSCALE:GREGORIAN
METHOD:PUBLISH
X-ORIGINAL-URL:https://energyfriendlyhomes.com
X-WR-CALDESC:Events for Energy Friendly Homes
REFRESH-INTERVAL;VALUE=DURATION:PT1H
X-Robots-Tag:noindex
X-PUBLISHED-TTL:PT1H
BEGIN:VTIMEZONE
TZID:America/Los_Angeles
BEGIN:DAYLIGHT
TZOFFSETFROM:-0800
TZOFFSETTO:-0700
TZNAME:PDT
DTSTART:20250309T100000
END:DAYLIGHT
BEGIN:STANDARD
TZOFFSETFROM:-0700
TZOFFSETTO:-0800
TZNAME:PST
DTSTART:20251102T090000
END:STANDARD
BEGIN:DAYLIGHT
TZOFFSETFROM:-0800
TZOFFSETTO:-0700
TZNAME:PDT
DTSTART:20260308T100000
END:DAYLIGHT
BEGIN:STANDARD
TZOFFSETFROM:-0700
TZOFFSETTO:-0800
TZNAME:PST
DTSTART:20261101T090000
END:STANDARD
BEGIN:DAYLIGHT
TZOFFSETFROM:-0800
TZOFFSETTO:-0700
TZNAME:PDT
DTSTART:20270314T100000
END:DAYLIGHT
BEGIN:STANDARD
TZOFFSETFROM:-0700
TZOFFSETTO:-0800
TZNAME:PST
DTSTART:20271107T090000
END:STANDARD
END:VTIMEZONE
BEGIN:VEVENT
DTSTART;TZID=America/Los_Angeles:20260601T130000
DTEND;TZID=America/Los_Angeles:20260601T170000
DTSTAMP:20260421T065226
CREATED:20260417T195754Z
LAST-MODIFIED:20260417T195754Z
UID:10000142-1780318800-1780333200@energyfriendlyhomes.com
SUMMARY:BPI HEP EA Field Exam Prep Course
DESCRIPTION:This course prepares qualified students to take the Home Energy Professional Energy Auditor certification exam. Students will review the types of questions that will be asked during the written and field exams and take one final exam assessing their Energy Auditor skills.  \nNecessary skills to pass the exam include:  \n\nConducting a precise energy audit of the building\nCollecting the required data to create a comprehensive report on the energy consumption of the building\nCreating a detailed work order outlining the benefits and pay back of recommended energy conservation measures\nDemonstrating knowledge of specifications and standards\nPerforming building and safety diagnostics\nRecording/reporting findings and concerns \nCommunicating effectively with the client.  \n\nUpon successful completion of this exam\, each student will receive a certificate of completion. Student learning will be assessed using quizzes\, instructor observation\, field activities and an exam. This assessment informs the instructors and students of areas requiring additional improvement.  \nCLICK to REGISTER.
URL:https://energyfriendlyhomes.com/calendar-event/bpi-hep-ea-field-exam-prep-course/
LOCATION:Oregon Training Institute – Training Center\, 2475 Pringle Rd SE\, Salem\, OR\, 97302\, United States
CATEGORIES:In Person
ORGANIZER;CN="Oregon Training Institute":MAILTO:OTI-info@caporegon.org
END:VEVENT
END:VCALENDAR