BEGIN:VCALENDAR
VERSION:2.0
PRODID:-//Energy Friendly Homes - ECPv6.15.20//NONSGML v1.0//EN
CALSCALE:GREGORIAN
METHOD:PUBLISH
X-WR-CALNAME:Energy Friendly Homes
X-ORIGINAL-URL:https://energyfriendlyhomes.com
X-WR-CALDESC:Events for Energy Friendly Homes
REFRESH-INTERVAL;VALUE=DURATION:PT1H
X-Robots-Tag:noindex
X-PUBLISHED-TTL:PT1H
BEGIN:VTIMEZONE
TZID:America/Los_Angeles
BEGIN:DAYLIGHT
TZOFFSETFROM:-0800
TZOFFSETTO:-0700
TZNAME:PDT
DTSTART:20250309T100000
END:DAYLIGHT
BEGIN:STANDARD
TZOFFSETFROM:-0700
TZOFFSETTO:-0800
TZNAME:PST
DTSTART:20251102T090000
END:STANDARD
BEGIN:DAYLIGHT
TZOFFSETFROM:-0800
TZOFFSETTO:-0700
TZNAME:PDT
DTSTART:20260308T100000
END:DAYLIGHT
BEGIN:STANDARD
TZOFFSETFROM:-0700
TZOFFSETTO:-0800
TZNAME:PST
DTSTART:20261101T090000
END:STANDARD
BEGIN:DAYLIGHT
TZOFFSETFROM:-0800
TZOFFSETTO:-0700
TZNAME:PDT
DTSTART:20270314T100000
END:DAYLIGHT
BEGIN:STANDARD
TZOFFSETFROM:-0700
TZOFFSETTO:-0800
TZNAME:PST
DTSTART:20271107T090000
END:STANDARD
END:VTIMEZONE
BEGIN:VEVENT
DTSTART;TZID=America/Los_Angeles:20260604T100000
DTEND;TZID=America/Los_Angeles:20260604T110000
DTSTAMP:20260422T083026
CREATED:20260417T201427Z
LAST-MODIFIED:20260417T201427Z
UID:10000146-1780567200-1780570800@energyfriendlyhomes.com
SUMMARY:Deliver High Performance Heat Pump Retrofits
DESCRIPTION:Heat pumps are receiving more attention from our industry and homeowners than ever before. And unless you have a plan for how to retrofit this equipment into existing homes\, the results may disappoint you. In this session\, David Richardson will layout a blueprint for how you can add High Performance Heat Pump Retrofits to your product offerings and avoid the most common pitfalls. \nThe following subjects will be covered in this session: \n\nWhat an Olympic shooter can teach us about heat pumps\nAiming at the right targets and how to know if you miss them\nHigh-Performance Heat Pump Retrofits – What\, Why\, and How\nTesting\, Design\, Installation\, and Verification – HP Retrofit Pillars\nFive Tips to Deliver High-Performance Heat Pump Retrofits\nNext Steps\n\nWHAT YOU WILL LEARN \n\nStrengthen your confidence in creating a retrofit heat pump scope of work\nA process to add High Performance Heat Pump Retrofits to your product offerings\nIdentify and avoid the most common pitfalls to high-performing heat pump retrofits\n\nCLICK to REGISTER.
URL:https://energyfriendlyhomes.com/calendar-event/deliver-high-performance-heat-pump-retrofits/
CATEGORIES:Online
END:VEVENT
END:VCALENDAR